BEGIN:VCALENDAR
VERSION:2.0
PRODID:-//ECITB//NONSGML Events //EN
CALSCALE:GREGORIAN
X-WR-CALNAME:ECITB - Events
BEGIN:VEVENT
UID:398534-20270121T000000
DTSTAMP:20260424T173207
CREATED:20260424T113745
DTSTART:20270121T000000
DTEND:20270122T235959
SUMMARY:CCNSG National
LOCATION:Yeovil, BA22 8RN
ORGANIZER:SHEQ Services Ltd
END:VEVENT
END:VCALENDAR