BEGIN:VCALENDAR
VERSION:2.0
PRODID:-//ECITB//NONSGML Events //EN
CALSCALE:GREGORIAN
X-WR-CALNAME:ECITB - Events
BEGIN:VEVENT
UID:398477-20260512T000000
DTSTAMP:20260424T220645
CREATED:20260424T113748
DTSTART:20260512T000000
DTEND:20260513T235959
SUMMARY:CCNSG National
LOCATION:Milford Haven
ORGANIZER:Providence Training Ltd (Safety Train)
END:VEVENT
END:VCALENDAR