BEGIN:VCALENDAR
VERSION:2.0
PRODID:-//ECITB//NONSGML Events //EN
CALSCALE:GREGORIAN
X-WR-CALNAME:ECITB - Events
BEGIN:VEVENT
UID:398444-20260427T000000
DTSTAMP:20260424T165527
CREATED:20260424T113751
DTSTART:20260427T000000
DTEND:20260427T235959
SUMMARY:CCNSG Renewal
LOCATION:Port Talbot
ORGANIZER:Barry Training Services Limited
END:VEVENT
END:VCALENDAR