BEGIN:VCALENDAR
VERSION:2.0
PRODID:-//ECITB//NONSGML Events //EN
CALSCALE:GREGORIAN
X-WR-CALNAME:ECITB - Events
BEGIN:VEVENT
UID:398363-20260622T000000
DTSTAMP:20260424T215428
CREATED:20260424T113751
DTSTART:20260622T000000
DTEND:20260622T235959
SUMMARY:CCNSG Renewal
LOCATION:Milford Haven
ORGANIZER:Providence Training Ltd (Safety Train)
END:VEVENT
END:VCALENDAR