BEGIN:VCALENDAR
VERSION:2.0
PRODID:-//ECITB//NONSGML Events //EN
CALSCALE:GREGORIAN
X-WR-CALNAME:ECITB - Events
BEGIN:VEVENT
UID:398357-20260609T000000
DTSTAMP:20260424T215117
CREATED:20260424T113752
DTSTART:20260609T000000
DTEND:20260610T235959
SUMMARY:CCNSG National
LOCATION:Milford Haven
ORGANIZER:Providence Training Ltd (Safety Train)
END:VEVENT
END:VCALENDAR