BEGIN:VCALENDAR
VERSION:2.0
PRODID:-//ECITB//NONSGML Events //EN
CALSCALE:GREGORIAN
X-WR-CALNAME:ECITB - Events
BEGIN:VEVENT
UID:398351-20260608T000000
DTSTAMP:20260424T214943
CREATED:20260424T113754
DTSTART:20260608T000000
DTEND:20260608T235959
SUMMARY:CCNSG Renewal
LOCATION:Milford Haven
ORGANIZER:Providence Training Ltd (Safety Train)
END:VEVENT
END:VCALENDAR