BEGIN:VCALENDAR
VERSION:2.0
PRODID:-//ECITB//NONSGML Events //EN
CALSCALE:GREGORIAN
X-WR-CALNAME:ECITB - Events
BEGIN:VEVENT
UID:397953-20260721T000000
DTSTAMP:20260424T152651
CREATED:20260424T113810
DTSTART:20260721T000000
DTEND:20260722T235959
SUMMARY:CCNSG National
LOCATION: Southampton
ORGANIZER:Breathe Safety Ltd
END:VEVENT
END:VCALENDAR