BEGIN:VCALENDAR
VERSION:2.0
PRODID:-//ECITB//NONSGML Events //EN
CALSCALE:GREGORIAN
X-WR-CALNAME:ECITB - Events
BEGIN:VEVENT
UID:397947-20260720T000000
DTSTAMP:20260424T151904
CREATED:20260424T113812
DTSTART:20260720T000000
DTEND:20260720T235959
SUMMARY:CCNSG Renewal
LOCATION: Southampton
ORGANIZER:Breathe Safety Ltd
END:VEVENT
END:VCALENDAR