BEGIN:VCALENDAR
VERSION:2.0
PRODID:-//ECITB//NONSGML Events //EN
CALSCALE:GREGORIAN
X-WR-CALNAME:ECITB - Events
BEGIN:VEVENT
UID:397942-20260622T000000
DTSTAMP:20260424T152437
CREATED:20260424T113813
DTSTART:20260622T000000
DTEND:20260623T235959
SUMMARY:CCNSG National
LOCATION: Southampton
ORGANIZER:Breathe Safety Ltd
END:VEVENT
END:VCALENDAR