BEGIN:VCALENDAR
VERSION:2.0
PRODID:-//ECITB//NONSGML Events //EN
CALSCALE:GREGORIAN
X-WR-CALNAME:ECITB - Events
BEGIN:VEVENT
UID:397925-20260513T000000
DTSTAMP:20260425T195806
CREATED:20260424T113813
DTSTART:20260513T000000
DTEND:20260514T235959
SUMMARY:CCNSG National
LOCATION:Hartlepool Training TS251TZ
ORGANIZER:Hartlepool Training Ltd
END:VEVENT
END:VCALENDAR