BEGIN:VCALENDAR
VERSION:2.0
PRODID:-//ECITB//NONSGML Events //EN
CALSCALE:GREGORIAN
X-WR-CALNAME:ECITB - Events
BEGIN:VEVENT
UID:396474-20270311T000000
DTSTAMP:20260421T122540
CREATED:20260410T133158
DTSTART:20270311T000000
DTEND:20270312T235959
SUMMARY:CCNSG National
LOCATION:Yeovil, BA22 8RN
ORGANIZER:SHEQ Services Ltd
END:VEVENT
END:VCALENDAR