BEGIN:VCALENDAR
VERSION:2.0
PRODID:-//ECITB//NONSGML Events //EN
CALSCALE:GREGORIAN
X-WR-CALNAME:ECITB - Events
BEGIN:VEVENT
UID:396472-20261124T000000
DTSTAMP:20260422T125713
CREATED:20260410T133159
DTSTART:20261124T000000
DTEND:20261126T235959
SUMMARY:Introduction to Project Controls
LOCATION:Virtual
ORGANIZER:Kingsfield Academy International Ltd
END:VEVENT
END:VCALENDAR