BEGIN:VCALENDAR
VERSION:2.0
PRODID:-//ECITB//NONSGML Events //EN
CALSCALE:GREGORIAN
X-WR-CALNAME:ECITB - Events
BEGIN:VEVENT
UID:396439-20261106T000000
DTSTAMP:20260420T101638
CREATED:20260410T133202
DTSTART:20261106T000000
DTEND:20261106T235959
SUMMARY:Introduction to commercial awareness and risk
LOCATION:Virtual
ORGANIZER:20/20 Business Insight Limited
END:VEVENT
END:VCALENDAR