BEGIN:VCALENDAR
VERSION:2.0
PRODID:-//ECITB//NONSGML Events //EN
CALSCALE:GREGORIAN
X-WR-CALNAME:ECITB - Events
BEGIN:VEVENT
UID:396438-20260602T000000
DTSTAMP:20260422T093018
CREATED:20260410T133202
DTSTART:20260602T000000
DTEND:20260603T235959
SUMMARY:Applied Risk Management
LOCATION:Virtual
ORGANIZER:Kingsfield Academy International Ltd
END:VEVENT
END:VCALENDAR