BEGIN:VCALENDAR
VERSION:2.0
PRODID:-//ECITB//NONSGML Events //EN
CALSCALE:GREGORIAN
X-WR-CALNAME:ECITB - Events
BEGIN:VEVENT
UID:396437-20260727T000000
DTSTAMP:20260422T154736
CREATED:20260410T133202
DTSTART:20260727T000000
DTEND:20260728T235959
SUMMARY:CCNSG National
LOCATION:Yeovil, BA22 8RN
ORGANIZER:SHEQ Services Ltd
END:VEVENT
END:VCALENDAR