BEGIN:VCALENDAR
VERSION:2.0
PRODID:-//ECITB//NONSGML Events //EN
CALSCALE:GREGORIAN
X-WR-CALNAME:ECITB - Events
BEGIN:VEVENT
UID:396425-20260806T000000
DTSTAMP:20260421T090357
CREATED:20260410T133203
DTSTART:20260806T000000
DTEND:20260812T235959
SUMMARY:Introduction to Project Controls
LOCATION:Virtual
ORGANIZER:Go Forth
END:VEVENT
END:VCALENDAR