BEGIN:VCALENDAR
VERSION:2.0
PRODID:-//ECITB//NONSGML Events //EN
CALSCALE:GREGORIAN
X-WR-CALNAME:ECITB - Events
BEGIN:VEVENT
UID:396421-20260720T000000
DTSTAMP:20260421T091007
CREATED:20260410T133204
DTSTART:20260720T000000
DTEND:20260722T235959
SUMMARY:Project Document Managers
LOCATION:Virtual
ORGANIZER:Go Forth
END:VEVENT
END:VCALENDAR