BEGIN:VCALENDAR
VERSION:2.0
PRODID:-//ECITB//NONSGML Events //EN
CALSCALE:GREGORIAN
X-WR-CALNAME:ECITB - Events
BEGIN:VEVENT
UID:396409-20260702T000000
DTSTAMP:20260421T090043
CREATED:20260410T133207
DTSTART:20260702T000000
DTEND:20260708T235959
SUMMARY:Estimating Methodology and Practice
LOCATION:Virtual
ORGANIZER:Go Forth
END:VEVENT
END:VCALENDAR