BEGIN:VCALENDAR
VERSION:2.0
PRODID:-//ECITB//NONSGML Events //EN
CALSCALE:GREGORIAN
X-WR-CALNAME:ECITB - Events
BEGIN:VEVENT
UID:396398-20260616T000000
DTSTAMP:20260420T123316
CREATED:20260410T133204
DTSTART:20260616T000000
DTEND:20260618T235959
SUMMARY:Supervisor Training Module 2 &#8211; Achieving Performance
LOCATION:Virtual
ORGANIZER:Rewards Training Recruitment Consultancy Ltd
END:VEVENT
END:VCALENDAR