BEGIN:VCALENDAR
VERSION:2.0
PRODID:-//ECITB//NONSGML Events //EN
CALSCALE:GREGORIAN
X-WR-CALNAME:ECITB - Events
BEGIN:VEVENT
UID:396386-20260604T000000
DTSTAMP:20260421T120614
CREATED:20260410T133207
DTSTART:20260604T000000
DTEND:20260604T235959
SUMMARY:ECITB Introduction to Estimating
LOCATION:Virtual
ORGANIZER:20/20 Business Insight Limited
END:VEVENT
END:VCALENDAR