BEGIN:VCALENDAR
VERSION:2.0
PRODID:-//ECITB//NONSGML Events //EN
CALSCALE:GREGORIAN
X-WR-CALNAME:ECITB - Events
BEGIN:VEVENT
UID:396364-20261125T000000
DTSTAMP:20260422T123903
CREATED:20260410T133207
DTSTART:20261125T000000
DTEND:20261126T235959
SUMMARY:CCNSG National
LOCATION: ST5 6RJ
ORGANIZER:Purple Cow Training Limited
END:VEVENT
END:VCALENDAR