BEGIN:VCALENDAR
VERSION:2.0
PRODID:-//ECITB//NONSGML Events //EN
CALSCALE:GREGORIAN
X-WR-CALNAME:ECITB - Events
BEGIN:VEVENT
UID:396362-20260604T000000
DTSTAMP:20260421T140551
CREATED:20260410T133208
DTSTART:20260604T000000
DTEND:20260605T235959
SUMMARY:CCNSG National
LOCATION:Runcorn, WA7 4NH
ORGANIZER:GSS Training Limited
END:VEVENT
END:VCALENDAR