BEGIN:VCALENDAR
VERSION:2.0
PRODID:-//ECITB//NONSGML Events //EN
CALSCALE:GREGORIAN
X-WR-CALNAME:ECITB - Events
BEGIN:VEVENT
UID:396350-20260528T000000
DTSTAMP:20260421T155632
CREATED:20260410T133205
DTSTART:20260528T000000
DTEND:20260529T235959
SUMMARY:CCNSG National
LOCATION:Runcorn, WA7 4NH
ORGANIZER:GSS Training Limited
END:VEVENT
END:VCALENDAR