BEGIN:VCALENDAR
VERSION:2.0
PRODID:-//ECITB//NONSGML Events //EN
CALSCALE:GREGORIAN
X-WR-CALNAME:ECITB - Events
BEGIN:VEVENT
UID:396324-20260608T000000
DTSTAMP:20260421T125626
CREATED:20260410T133206
DTSTART:20260608T000000
DTEND:20260612T235959
SUMMARY:Control, Instrumentation, Optimisation and Performance &#8211; Flow and Temperature
LOCATION:Stockton-on-Tees
ORGANIZER:Roxby Training Solutions Limited
END:VEVENT
END:VCALENDAR