BEGIN:VCALENDAR
VERSION:2.0
PRODID:-//ECITB//NONSGML Events //EN
CALSCALE:GREGORIAN
X-WR-CALNAME:ECITB - Events
BEGIN:VEVENT
UID:396319-20260811T000000
DTSTAMP:20260420T152944
CREATED:20260410T133207
DTSTART:20260811T000000
DTEND:20260812T235959
SUMMARY:CCNSG National
LOCATION:TS17 9LY
ORGANIZER:Northern Safety Ltd
END:VEVENT
END:VCALENDAR