BEGIN:VCALENDAR
VERSION:2.0
PRODID:-//ECITB//NONSGML Events //EN
CALSCALE:GREGORIAN
X-WR-CALNAME:ECITB - Events
BEGIN:VEVENT
UID:396300-20261109T000000
DTSTAMP:20260420T123516
CREATED:20260410T133207
DTSTART:20261109T000000
DTEND:20261110T235959
SUMMARY:CCNSG National
LOCATION:Southam, CV47 0FS
ORGANIZER:Key OSTAS Limited
END:VEVENT
END:VCALENDAR