BEGIN:VCALENDAR
VERSION:2.0
PRODID:-//ECITB//NONSGML Events //EN
CALSCALE:GREGORIAN
X-WR-CALNAME:ECITB - Events
BEGIN:VEVENT
UID:396265-20260518T000000
DTSTAMP:20260421T122322
CREATED:20260410T133211
DTSTART:20260518T000000
DTEND:20260519T235959
SUMMARY:CCNSG National
LOCATION:Southam, CV47 0FS
ORGANIZER:Key OSTAS Limited
END:VEVENT
END:VCALENDAR