BEGIN:VCALENDAR
VERSION:2.0
PRODID:-//ECITB//NONSGML Events //EN
CALSCALE:GREGORIAN
X-WR-CALNAME:ECITB - Events
BEGIN:VEVENT
UID:396263-20260521T000000
DTSTAMP:20260421T161629
CREATED:20260410T133212
DTSTART:20260521T000000
DTEND:20260522T235959
SUMMARY:CCNSG National
LOCATION:TS18 2RJ
ORGANIZER:Education Training Collective t/a NETA Training
END:VEVENT
END:VCALENDAR