BEGIN:VCALENDAR
VERSION:2.0
PRODID:-//ECITB//NONSGML Events //EN
CALSCALE:GREGORIAN
X-WR-CALNAME:ECITB - Events
BEGIN:VEVENT
UID:396256-20260618T000000
DTSTAMP:20260421T122257
CREATED:20260410T133214
DTSTART:20260618T000000
DTEND:20260619T235959
SUMMARY:CCNSG National
LOCATION:Runcorn, WA7 4NH
ORGANIZER:GSS Training Limited
END:VEVENT
END:VCALENDAR