BEGIN:VCALENDAR
VERSION:2.0
PRODID:-//ECITB//NONSGML Events //EN
CALSCALE:GREGORIAN
X-WR-CALNAME:ECITB - Events
BEGIN:VEVENT
UID:396247-20261008T000000
DTSTAMP:20260422T130211
CREATED:20260410T133210
DTSTART:20261008T000000
DTEND:20261009T235959
SUMMARY:CCNSG National
LOCATION:TS17 9LY
ORGANIZER:Northern Safety Ltd
END:VEVENT
END:VCALENDAR