BEGIN:VCALENDAR
VERSION:2.0
PRODID:-//ECITB//NONSGML Events //EN
CALSCALE:GREGORIAN
X-WR-CALNAME:ECITB - Events
BEGIN:VEVENT
UID:396241-20260520T000000
DTSTAMP:20260421T161938
CREATED:20260410T133212
DTSTART:20260520T000000
DTEND:20260520T235959
SUMMARY:CCNSG Renewal
LOCATION:TS18 2QQ
ORGANIZER:Education Training Collective t/a NETA Training
END:VEVENT
END:VCALENDAR