BEGIN:VCALENDAR
VERSION:2.0
PRODID:-//ECITB//NONSGML Events //EN
CALSCALE:GREGORIAN
X-WR-CALNAME:ECITB - Events
BEGIN:VEVENT
UID:396236-20260610T000000
DTSTAMP:20260421T155535
CREATED:20260410T133213
DTSTART:20260610T000000
DTEND:20260610T235959
SUMMARY:CCNSG Renewal
LOCATION:Manchester, M17 1AY
ORGANIZER:GSS Training Limited
END:VEVENT
END:VCALENDAR