BEGIN:VCALENDAR
VERSION:2.0
PRODID:-//ECITB//NONSGML Events //EN
CALSCALE:GREGORIAN
X-WR-CALNAME:ECITB - Events
BEGIN:VEVENT
UID:396234-20260511T000000
DTSTAMP:20260420T194742
CREATED:20260410T133213
DTSTART:20260511T000000
DTEND:20260512T235959
SUMMARY:CCNSG National
LOCATION:TS18 2QQ
ORGANIZER:Education Training Collective t/a NETA Training
END:VEVENT
END:VCALENDAR