BEGIN:VCALENDAR
VERSION:2.0
PRODID:-//ECITB//NONSGML Events //EN
CALSCALE:GREGORIAN
X-WR-CALNAME:ECITB - Events
BEGIN:VEVENT
UID:396232-20260608T000000
DTSTAMP:20260421T155433
CREATED:20260410T133214
DTSTART:20260608T000000
DTEND:20260609T235959
SUMMARY:CCNSG National
LOCATION:Manchester, M17 1AY
ORGANIZER:GSS Training Limited
END:VEVENT
END:VCALENDAR