BEGIN:VCALENDAR
VERSION:2.0
PRODID:-//ECITB//NONSGML Events //EN
CALSCALE:GREGORIAN
X-WR-CALNAME:ECITB - Events
BEGIN:VEVENT
UID:396227-20260605T000000
DTSTAMP:20260421T125811
CREATED:20260410T133211
DTSTART:20260605T000000
DTEND:20260605T235959
SUMMARY:CCNSG Renewal
LOCATION:Manchester, M17 1AY
ORGANIZER:GSS Training Limited
END:VEVENT
END:VCALENDAR