BEGIN:VCALENDAR
VERSION:2.0
PRODID:-//ECITB//NONSGML Events //EN
CALSCALE:GREGORIAN
X-WR-CALNAME:ECITB - Events
BEGIN:VEVENT
UID:396208-20260610T000000
DTSTAMP:20260421T155638
CREATED:20260410T133215
DTSTART:20260610T000000
DTEND:20260611T235959
SUMMARY:CCNSG National
LOCATION:Leicester
ORGANIZER:Kingscote Limited T/A Webbs Training Services
END:VEVENT
END:VCALENDAR