BEGIN:VCALENDAR
VERSION:2.0
PRODID:-//ECITB//NONSGML Events //EN
CALSCALE:GREGORIAN
X-WR-CALNAME:ECITB - Events
BEGIN:VEVENT
UID:396180-20261008T000000
DTSTAMP:20260422T123406
CREATED:20260410T133211
DTSTART:20261008T000000
DTEND:20261008T235959
SUMMARY:CCNSG Renewal
LOCATION:MIlton Keynes
ORGANIZER:Kingscote Limited T/A Webbs Training Services
END:VEVENT
END:VCALENDAR