BEGIN:VCALENDAR
VERSION:2.0
PRODID:-//ECITB//NONSGML Events //EN
CALSCALE:GREGORIAN
X-WR-CALNAME:ECITB - Events
BEGIN:VEVENT
UID:396154-20260505T000000
DTSTAMP:20260420T135727
CREATED:20260410T133211
DTSTART:20260505T000000
DTEND:20260506T235959
SUMMARY:CCNSG National
LOCATION:Manchester, M17 1AY
ORGANIZER:GSS Training Limited
END:VEVENT
END:VCALENDAR