BEGIN:VCALENDAR
VERSION:2.0
PRODID:-//ECITB//NONSGML Events //EN
CALSCALE:GREGORIAN
X-WR-CALNAME:ECITB - Events
BEGIN:VEVENT
UID:396108-20260519T000000
DTSTAMP:20260421T161336
CREATED:20260410T133219
DTSTART:20260519T000000
DTEND:20260519T235959
SUMMARY:CCNSG Renewal
LOCATION:MIlton Keynes
ORGANIZER:Kingscote Limited T/A Webbs Training Services
END:VEVENT
END:VCALENDAR