BEGIN:VCALENDAR
VERSION:2.0
PRODID:-//ECITB//NONSGML Events //EN
CALSCALE:GREGORIAN
X-WR-CALNAME:ECITB - Events
BEGIN:VEVENT
UID:396073-20261012T000000
DTSTAMP:20260422T125909
CREATED:20260410T133218
DTSTART:20261012T000000
DTEND:22261013T235959
SUMMARY:CCNSG National
LOCATION:G46 8JT
ORGANIZER:TALA Training Limited
END:VEVENT
END:VCALENDAR