BEGIN:VCALENDAR
VERSION:2.0
PRODID:-//ECITB//NONSGML Events //EN
CALSCALE:GREGORIAN
X-WR-CALNAME:ECITB - Events
BEGIN:VEVENT
UID:396062-20261214T000000
DTSTAMP:20260423T122856
CREATED:20260410T133220
DTSTART:20261214T000000
DTEND:20261215T235959
SUMMARY:CCNSG National
LOCATION:GL10 3UT
ORGANIZER:C &#038; G Services (Europe) Limited
END:VEVENT
END:VCALENDAR