BEGIN:VCALENDAR
VERSION:2.0
PRODID:-//ECITB//NONSGML Events //EN
CALSCALE:GREGORIAN
X-WR-CALNAME:ECITB - Events
BEGIN:VEVENT
UID:396058-20260914T000000
DTSTAMP:20260420T085224
CREATED:20260410T133221
DTSTART:20260914T000000
DTEND:20260915T235959
SUMMARY:CCNSG National
LOCATION:G46 8JT
ORGANIZER:TALA Training Limited
END:VEVENT
END:VCALENDAR