BEGIN:VCALENDAR
VERSION:2.0
PRODID:-//ECITB//NONSGML Events //EN
CALSCALE:GREGORIAN
X-WR-CALNAME:ECITB - Events
BEGIN:VEVENT
UID:396032-20260427T000000
DTSTAMP:20260424T112410
CREATED:20260410T133222
DTSTART:20260427T000000
DTEND:20260428T235959
SUMMARY:CCNSG National
LOCATION:Southampton
ORGANIZER:Breathe Safety Ltd
END:VEVENT
END:VCALENDAR