BEGIN:VCALENDAR
VERSION:2.0
PRODID:-//ECITB//NONSGML Events //EN
CALSCALE:GREGORIAN
X-WR-CALNAME:ECITB - Events
BEGIN:VEVENT
UID:395997-20260505T000000
DTSTAMP:20260420T140414
CREATED:20260410T133219
DTSTART:20260505T000000
DTEND:20260507T235959
SUMMARY:Torque and Tension Bolted Connections
LOCATION:NE23 1WD
ORGANIZER:Hydratight Ltd
END:VEVENT
END:VCALENDAR