BEGIN:VCALENDAR
VERSION:2.0
PRODID:-//ECITB//NONSGML Events //EN
CALSCALE:GREGORIAN
X-WR-CALNAME:ECITB - Events
BEGIN:VEVENT
UID:395972-20261203T000000
DTSTAMP:20260420T084336
CREATED:20260410T133223
DTSTART:20261203T000000
DTEND:20261204T235959
SUMMARY:CCNSG National
LOCATION:G46 8JT
ORGANIZER:TALA Training Limited
END:VEVENT
END:VCALENDAR