BEGIN:VCALENDAR
VERSION:2.0
PRODID:-//ECITB//NONSGML Events //EN
CALSCALE:GREGORIAN
X-WR-CALNAME:ECITB - Events
BEGIN:VEVENT
UID:395970-20260601T000000
DTSTAMP:20260421T140722
CREATED:20260410T133224
DTSTART:20260601T000000
DTEND:20260602T235959
SUMMARY:CCNSG National
LOCATION:G46 8JT
ORGANIZER:TALA Training Limited
END:VEVENT
END:VCALENDAR