BEGIN:VCALENDAR
VERSION:2.0
PRODID:-//ECITB//NONSGML Events //EN
CALSCALE:GREGORIAN
X-WR-CALNAME:ECITB - Events
BEGIN:VEVENT
UID:395961-20261123T000000
DTSTAMP:20260422T131002
CREATED:20260410T133226
DTSTART:20261123T000000
DTEND:20261124T235959
SUMMARY:CCNSG National
LOCATION:G46 8JT
ORGANIZER:TALA Training Limited
END:VEVENT
END:VCALENDAR