BEGIN:VCALENDAR
VERSION:2.0
PRODID:-//ECITB//NONSGML Events //EN
CALSCALE:GREGORIAN
X-WR-CALNAME:ECITB - Events
BEGIN:VEVENT
UID:395945-20261005T000000
DTSTAMP:20260420T114923
CREATED:20260410T133224
DTSTART:20261005T000000
DTEND:20261005T235959
SUMMARY:CCNSG Renewal
LOCATION:Bromsgrove, B61 0JB
ORGANIZER:Key OSTAS Limited
END:VEVENT
END:VCALENDAR