BEGIN:VCALENDAR
VERSION:2.0
PRODID:-//ECITB//NONSGML Events //EN
CALSCALE:GREGORIAN
X-WR-CALNAME:ECITB - Events
BEGIN:VEVENT
UID:395921-20260527T000000
DTSTAMP:20260421T155751
CREATED:20260410T133225
DTSTART:20260527T000000
DTEND:20260528T235959
SUMMARY:CCNSG National
LOCATION:Bradford, BD3 8JX
ORGANIZER:GSS Training Limited
END:VEVENT
END:VCALENDAR