BEGIN:VCALENDAR
VERSION:2.0
PRODID:-//ECITB//NONSGML Events //EN
CALSCALE:GREGORIAN
X-WR-CALNAME:ECITB - Events
BEGIN:VEVENT
UID:395916-20260521T000000
DTSTAMP:20260421T161054
CREATED:20260410T133226
DTSTART:20260521T000000
DTEND:20260521T235959
SUMMARY:CCNSG Renewal
LOCATION:Bradford, BD3 8JX
ORGANIZER:GSS Training Limited
END:VEVENT
END:VCALENDAR